BEGIN:VCALENDAR
VERSION:2.0
PRODID:spatie/icalendar-generator
DESCRIPTION:Events from WN4RC
X-WR-CALDESC:Events from WN4RC
REFRESH-INTERVAL;VALUE=DURATION:PT1440M
X-PUBLISHED-TTL:PT1440M
BEGIN:VTIMEZONE
TZID:America/Chicago
BEGIN:STANDARD
DTSTART:20251102T020000Z
TZOFFSETFROM:-0500
TZOFFSETTO:-0600
END:STANDARD
BEGIN:DAYLIGHT
DTSTART:20260308T020000Z
TZOFFSETFROM:-0600
TZOFFSETTO:-0500
END:DAYLIGHT
END:VTIMEZONE
BEGIN:VTIMEZONE
TZID:UTC
BEGIN:STANDARD
DTSTART:20250727T184456Z
TZOFFSETFROM:+0000
TZOFFSETTO:+0000
END:STANDARD
END:VTIMEZONE
BEGIN:VEVENT
UID:27-17
DTSTAMP:20260423T184456Z
SUMMARY:How to program your Baofeng UV-5R using Chirp [ONLINE TRAINING]
LOCATION:
ORGANIZER;CN=N9ELM:MAILTO:evans@martek.net
DTSTART;TZID=America/Chicago:20251211T190000
DTEND;TZID=America/Chicago:20251211T200000
X-ALT-DESC;FMTTYPE=TEXT/HTML:<p>The WN4RC Radio Club will be offering a fre
 e online training session on Thursday 12/11/25 at 7:00 PM Central. The top
 ic will be how to program the Baofeng UV-5R using Chirp.</p>\n
CATEGORIES:Training
URL;VALUE=URI:https://wn4rc.com/mc-events/how-to-program-your-baofeng-uv-5r
 -using-chirp-online-training/
METHOD:PUBLISH
END:VEVENT
END:VCALENDAR