BEGIN:VCALENDAR
VERSION:2.0
PRODID:spatie/icalendar-generator
DESCRIPTION:Events from WN4RC
X-WR-CALDESC:Events from WN4RC
REFRESH-INTERVAL;VALUE=DURATION:PT1440M
X-PUBLISHED-TTL:PT1440M
BEGIN:VTIMEZONE
TZID:America/Chicago
BEGIN:STANDARD
DTSTART:20251102T020000Z
TZOFFSETFROM:-0500
TZOFFSETTO:-0600
END:STANDARD
BEGIN:DAYLIGHT
DTSTART:20260308T020000Z
TZOFFSETFROM:-0600
TZOFFSETTO:-0500
END:DAYLIGHT
BEGIN:STANDARD
DTSTART:20261101T020000Z
TZOFFSETFROM:-0500
TZOFFSETTO:-0600
END:STANDARD
END:VTIMEZONE
BEGIN:VTIMEZONE
TZID:UTC
BEGIN:STANDARD
DTSTART:20250727T145306Z
TZOFFSETFROM:+0000
TZOFFSETTO:+0000
END:STANDARD
END:VTIMEZONE
BEGIN:VEVENT
UID:37-3
DTSTAMP:20260423T145306Z
SUMMARY:Monthly Club Meeting
LOCATION:Gallaher Huffines Community Room 1 Stonecom Way  Cookeville TN 385
 06
ORGANIZER;CN=Randy Bolin:MAILTO:rebelnlv@hotmail.com
RRULE:FREQ=MONTHLY;BYDAY=2SA;UNTIL=20261231T000000Z
DTSTART;TZID=America/Chicago:20260509T100000
DTEND;TZID=America/Chicago:20260509T120000
X-ALT-DESC;FMTTYPE=TEXT/HTML:Join for fun and fellowship.
CATEGORIES:Club Meeting
URL;VALUE=URI:https://wn4rc.com/mc-events/monthly-club-meeting/?mc_id=37
METHOD:PUBLISH
END:VEVENT
END:VCALENDAR