BEGIN:VCALENDAR
VERSION:2.0
PRODID:spatie/icalendar-generator
DESCRIPTION:Events from WN4RC
X-WR-CALDESC:Events from WN4RC
REFRESH-INTERVAL;VALUE=DURATION:PT1440M
X-PUBLISHED-TTL:PT1440M
BEGIN:VTIMEZONE
TZID:America/Chicago
BEGIN:DAYLIGHT
DTSTART:20250309T020000Z
TZOFFSETFROM:-0600
TZOFFSETTO:-0500
END:DAYLIGHT
BEGIN:STANDARD
DTSTART:20251102T020000Z
TZOFFSETFROM:-0500
TZOFFSETTO:-0600
END:STANDARD
END:VTIMEZONE
BEGIN:VTIMEZONE
TZID:UTC
BEGIN:STANDARD
DTSTART:20250727T193617Z
TZOFFSETFROM:+0000
TZOFFSETTO:+0000
END:STANDARD
END:VTIMEZONE
BEGIN:VEVENT
UID:12-7
DTSTAMP:20260423T193617Z
SUMMARY:Huntsville Hamfest
LOCATION:Von Braun Center 700 Monroe St  Huntsville AL 35801
ORGANIZER;CN=Randy Bolin:MAILTO:rebelnlv@hotmail.com
DTSTART;TZID=America/Chicago:20250817T090000
DTEND;TZID=America/Chicago:20250817T150000
X-ALT-DESC;FMTTYPE=TEXT/HTML:<p>Huntsville Hamfest - August 16 &amp;amp\; 17\, 
 2025</p>\n
CATEGORIES:Hamfest
URL;VALUE=URI:https://wn4rc.com/mc-events/huntsville-hamfest-2/
METHOD:PUBLISH
END:VEVENT
END:VCALENDAR