BEGIN:VCALENDAR
VERSION:2.0
PRODID:spatie/icalendar-generator
DESCRIPTION:Events from WN4RC
X-WR-CALDESC:Events from WN4RC
REFRESH-INTERVAL;VALUE=DURATION:PT1440M
X-PUBLISHED-TTL:PT1440M
BEGIN:VTIMEZONE
TZID:America/Chicago
BEGIN:DAYLIGHT
DTSTART:20250309T020000Z
TZOFFSETFROM:-0600
TZOFFSETTO:-0500
END:DAYLIGHT
BEGIN:STANDARD
DTSTART:20251102T020000Z
TZOFFSETFROM:-0500
TZOFFSETTO:-0600
END:STANDARD
BEGIN:DAYLIGHT
DTSTART:20260308T020000Z
TZOFFSETFROM:-0600
TZOFFSETTO:-0500
END:DAYLIGHT
END:VTIMEZONE
BEGIN:VTIMEZONE
TZID:UTC
BEGIN:STANDARD
DTSTART:20250728T001418Z
TZOFFSETFROM:+0000
TZOFFSETTO:+0000
END:STANDARD
END:VTIMEZONE
BEGIN:VEVENT
UID:19-12
DTSTAMP:20260424T001418Z
SUMMARY:POTA ACADEMY
LOCATION:Standing Stone State Park 1674 Standing Stone Park Hwy.  Hilham TN
  38568
ORGANIZER;CN=admin:MAILTO:admin@wn4rc.com
DTSTART;TZID=America/Chicago:20251011T080000
DTEND;TZID=America/Chicago:20251011T090000
X-ALT-DESC;FMTTYPE=TEXT/HTML:<p>WN4RC\, in collaboration with TTARS\, will 
 be hosting a Parks on the Air instructional session at Standing Stone Stat
 e Park pavilion #4 on October 11th.</p>\n
CATEGORIES:General
URL;VALUE=URI:https://wn4rc.com/mc-events/pota-academy/
METHOD:PUBLISH
END:VEVENT
END:VCALENDAR