BEGIN:VCALENDAR
VERSION:2.0
PRODID:spatie/icalendar-generator
DESCRIPTION:Events from WN4RC
X-WR-CALDESC:Events from WN4RC
REFRESH-INTERVAL;VALUE=DURATION:PT1440M
X-PUBLISHED-TTL:PT1440M
BEGIN:VTIMEZONE
TZID:America/Chicago
BEGIN:DAYLIGHT
DTSTART:20250309T020000Z
TZOFFSETFROM:-0600
TZOFFSETTO:-0500
END:DAYLIGHT
BEGIN:STANDARD
DTSTART:20251102T020000Z
TZOFFSETFROM:-0500
TZOFFSETTO:-0600
END:STANDARD
BEGIN:DAYLIGHT
DTSTART:20260308T020000Z
TZOFFSETFROM:-0600
TZOFFSETTO:-0500
END:DAYLIGHT
END:VTIMEZONE
BEGIN:VTIMEZONE
TZID:UTC
BEGIN:STANDARD
DTSTART:20250727T224805Z
TZOFFSETFROM:+0000
TZOFFSETTO:+0000
END:STANDARD
END:VTIMEZONE
BEGIN:VEVENT
UID:21-14
DTSTAMP:20260423T224805Z
SUMMARY:Upper Cumberland CERT Training
LOCATION:
ORGANIZER;CN=admin:MAILTO:admin@wn4rc.com
DTSTART;TZID=America/Chicago:20251108T080000
DTEND;TZID=America/Chicago:20251108T163000
X-ALT-DESC;FMTTYPE=TEXT/HTML:<p>The Basic CERT Training teaches you basic d
 isaster response skills so you can safely help yourself and those around y
 ou when disaster strikes and when professional responders aren’t availab
 le. Learn how to protect your-self\, your loved ones\, and your community.
 </p>\n
CATEGORIES:General
URL;VALUE=URI:https://wn4rc.com/mc-events/upper-cumberland-cert-training-2/
METHOD:PUBLISH
END:VEVENT
END:VCALENDAR