BEGIN:VCALENDAR
VERSION:2.0
PRODID:spatie/icalendar-generator
DESCRIPTION:Events from WN4RC
X-WR-CALDESC:Events from WN4RC
REFRESH-INTERVAL;VALUE=DURATION:PT1440M
X-PUBLISHED-TTL:PT1440M
BEGIN:VTIMEZONE
TZID:America/Chicago
BEGIN:DAYLIGHT
DTSTART:20250309T020000Z
TZOFFSETFROM:-0600
TZOFFSETTO:-0500
END:DAYLIGHT
BEGIN:STANDARD
DTSTART:20251102T020000Z
TZOFFSETFROM:-0500
TZOFFSETTO:-0600
END:STANDARD
BEGIN:DAYLIGHT
DTSTART:20260308T020000Z
TZOFFSETFROM:-0600
TZOFFSETTO:-0500
END:DAYLIGHT
END:VTIMEZONE
BEGIN:VTIMEZONE
TZID:UTC
BEGIN:STANDARD
DTSTART:20250727T195754Z
TZOFFSETFROM:+0000
TZOFFSETTO:+0000
END:STANDARD
END:VTIMEZONE
BEGIN:VEVENT
UID:23-15
DTSTAMP:20260423T195754Z
SUMMARY:Lester Flatt / Liberty Square Event - Support White County Amateur 
 Radio Club
LOCATION:Liberty Square\, Downtown Sparta\, TN 38583 Liberty Square\, Downt
 own  Sparta TN 38583
ORGANIZER;CN=admin:MAILTO:admin@wn4rc.com
DTSTART;TZID=America/Chicago:20251011T090000
DTEND;TZID=America/Chicago:20251011T190000
X-ALT-DESC;FMTTYPE=TEXT/HTML:<p>WN4RC is happy to announce that we will be 
 working with White County Amateur Radio Club to share the joy of ham radio
  at the Liberty Square / Lester Flatt event in Sparta\, TN this weekend (O
 ct. 11).  We will be helping to man the tent on the square by the courtho
 use and will have radios to demonstrate and people willing to answer any q
 uestions you have about amateur radio and about general emergency prepared
 ness.</p>\n
CATEGORIES:General
URL;VALUE=URI:https://wn4rc.com/mc-events/lester-flatt-liberty-square-event
 -support-white-county-amateur-radio-club/
METHOD:PUBLISH
END:VEVENT
END:VCALENDAR