BEGIN:VCALENDAR
VERSION:2.0
PRODID:spatie/icalendar-generator
DESCRIPTION:Events from WN4RC
X-WR-CALDESC:Events from WN4RC
REFRESH-INTERVAL;VALUE=DURATION:PT1440M
X-PUBLISHED-TTL:PT1440M
BEGIN:VTIMEZONE
TZID:America/Chicago
BEGIN:DAYLIGHT
DTSTART:20250309T020000Z
TZOFFSETFROM:-0600
TZOFFSETTO:-0500
END:DAYLIGHT
BEGIN:STANDARD
DTSTART:20251102T020000Z
TZOFFSETFROM:-0500
TZOFFSETTO:-0600
END:STANDARD
BEGIN:DAYLIGHT
DTSTART:20260308T020000Z
TZOFFSETFROM:-0600
TZOFFSETTO:-0500
END:DAYLIGHT
END:VTIMEZONE
BEGIN:VTIMEZONE
TZID:UTC
BEGIN:STANDARD
DTSTART:20250727T224002Z
TZOFFSETFROM:+0000
TZOFFSETTO:+0000
END:STANDARD
END:VTIMEZONE
BEGIN:VEVENT
UID:25-9
DTSTAMP:20260423T224002Z
SUMMARY:Ham In A Day:  VE Testing Session
LOCATION:CFS 210 Rotary Centennial Dr  Cookeville Tennessee 38501
ORGANIZER;CN=Randy Bolin:MAILTO:rebelnlv@hotmail.com
DTSTART;TZID=America/Chicago:20251115T143000
DTEND;TZID=America/Chicago:20251115T160000
X-ALT-DESC;FMTTYPE=TEXT/HTML:<p>We invite you to join our comprehensive\, f
 ast-paced one-day Amateur Radio Technician License Class\, where we’ll c
 over the entire Technician question pool—from radio basics to FCC regula
 tions—culminating in the official exam at the end of the day. Our missio
 n: to make ham radio accessible\, engaging\, and achievable for everyone!</p>\n
CATEGORIES:Testing
URL;VALUE=URI:https://wn4rc.com/mc-events/ham-in-a-day-ve-testing-session-2
 /
METHOD:PUBLISH
END:VEVENT
END:VCALENDAR