BEGIN:VCALENDAR
VERSION:2.0
PRODID:spatie/icalendar-generator
DESCRIPTION:Events from WN4RC
X-WR-CALDESC:Events from WN4RC
REFRESH-INTERVAL;VALUE=DURATION:PT1440M
X-PUBLISHED-TTL:PT1440M
BEGIN:VTIMEZONE
TZID:America/Chicago
BEGIN:STANDARD
DTSTART:20251102T020000Z
TZOFFSETFROM:-0500
TZOFFSETTO:-0600
END:STANDARD
BEGIN:DAYLIGHT
DTSTART:20260308T020000Z
TZOFFSETFROM:-0600
TZOFFSETTO:-0500
END:DAYLIGHT
END:VTIMEZONE
BEGIN:VTIMEZONE
TZID:UTC
BEGIN:STANDARD
DTSTART:20250727T184405Z
TZOFFSETFROM:+0000
TZOFFSETTO:+0000
END:STANDARD
END:VTIMEZONE
BEGIN:VEVENT
UID:26-16
DTSTAMP:20260423T184405Z
SUMMARY:General in a day Licensing Test Refresher
LOCATION:Stonecom Radio 1 Stonecom Way  Cookeville TN 38506
ORGANIZER;CN=admin:MAILTO:admin@wn4rc.com
DTSTART;TZID=America/Chicago:20260117T080000
DTEND;TZID=America/Chicago:20260117T163000
X-ALT-DESC;FMTTYPE=TEXT/HTML:We look forward to getting you on your way to 
 obtaining your General ticket. This class will be question and answer base
 d. We go over areas you are having issues with and the question pool for t
 hat section. Although we make no guarantees\, If you have done your part b
 y using a study guide of&amp;hellip\;
CATEGORIES:Testing,  Training
URL;VALUE=URI:https://wn4rc.com/mc-events/general-in-a-day-licensing-test-r
 efresher/
METHOD:PUBLISH
END:VEVENT
END:VCALENDAR