BEGIN:VCALENDAR
VERSION:2.0
PRODID:spatie/icalendar-generator
DESCRIPTION:Events from WN4RC
X-WR-CALDESC:Events from WN4RC
REFRESH-INTERVAL;VALUE=DURATION:PT1440M
X-PUBLISHED-TTL:PT1440M
BEGIN:VTIMEZONE
TZID:America/Chicago
BEGIN:DAYLIGHT
DTSTART:20250309T020000Z
TZOFFSETFROM:-0600
TZOFFSETTO:-0500
END:DAYLIGHT
BEGIN:STANDARD
DTSTART:20251102T020000Z
TZOFFSETFROM:-0500
TZOFFSETTO:-0600
END:STANDARD
BEGIN:DAYLIGHT
DTSTART:20260308T020000Z
TZOFFSETFROM:-0600
TZOFFSETTO:-0500
END:DAYLIGHT
END:VTIMEZONE
BEGIN:VTIMEZONE
TZID:UTC
BEGIN:STANDARD
DTSTART:20250727T235914Z
TZOFFSETFROM:+0000
TZOFFSETTO:+0000
END:STANDARD
END:VTIMEZONE
BEGIN:VEVENT
UID:5-11
DTSTAMP:20260423T235914Z
SUMMARY:Monthly Club Meeting - Run for Don
LOCATION:330 Birch Street\, Gainesboro Tn\, 38501 330 Birch Street  Gainesb
 oro TN 38501
ORGANIZER;CN=Randy Bolin:MAILTO:rebelnlv@hotmail.com
DTSTART;TZID=America/Chicago:20250913T060000
DTEND;TZID=America/Chicago:20250913T120000
X-ALT-DESC;FMTTYPE=TEXT/HTML:https://run4don.com/ This we be our monthly me
 eting. Come help us with the run. Contact us for info. Be in place by 6 am
 .
CATEGORIES:Club Meeting
URL;VALUE=URI:https://wn4rc.com/mc-events/monthly-club-meeting-run-for-don-
 2/
METHOD:PUBLISH
END:VEVENT
END:VCALENDAR