BEGIN:VCALENDAR
VERSION:2.0
PRODID:spatie/icalendar-generator
DESCRIPTION:Events from WN4RC
X-WR-CALDESC:Events from WN4RC
REFRESH-INTERVAL;VALUE=DURATION:PT1440M
X-PUBLISHED-TTL:PT1440M
BEGIN:VTIMEZONE
TZID:America/Chicago
BEGIN:STANDARD
DTSTART:20251102T020000Z
TZOFFSETFROM:-0500
TZOFFSETTO:-0600
END:STANDARD
BEGIN:DAYLIGHT
DTSTART:20260308T020000Z
TZOFFSETFROM:-0600
TZOFFSETTO:-0500
END:DAYLIGHT
END:VTIMEZONE
BEGIN:VTIMEZONE
TZID:UTC
BEGIN:STANDARD
DTSTART:20250727T144506Z
TZOFFSETFROM:+0000
TZOFFSETTO:+0000
END:STANDARD
END:VTIMEZONE
BEGIN:VEVENT
UID:92-21
DTSTAMP:20260423T144506Z
SUMMARY:Amateur Radio Testing
LOCATION:Gallaher Huffines Community Room 1 Stonecom Way  Cookeville TN 385
 06
ORGANIZER;CN=admin:MAILTO:admin@wn4rc.com
DTSTART;TZID=America/Chicago:20260314T143000
DTEND;TZID=America/Chicago:20260314T160000
X-ALT-DESC;FMTTYPE=TEXT/HTML:This testing session may or may not be in conj
 unction with a full day license class prep. All prospective new operators 
 and those wishing to upgrade their license are encouraged t0 register at t
 he following link. Please understand this is a three part process\, regist
 ration\, payment of $10 fee and finally signing testing agreement. &amp;nbsp\;
 &amp;hellip\;
CATEGORIES:Testing
URL;VALUE=URI:https://wn4rc.com/mc-events/amateur-radio-testing-2/
METHOD:PUBLISH
END:VEVENT
END:VCALENDAR